BEGIN:VCALENDAR
VERSION:2.0
PRODID:-//AudioTheme 2.3.1
BEGIN:VEVENT
UID:urn:uuid:8516d1db-6856-46a5-9cd1-387e1bb9d329
URL:https://halfpintgrowler.com/gigs/woodys-golden-25th-anniversary-celebration/
DTSTART;TZID=GMT:20191207T190000
SUMMARY:Woody's 25th Anniversary Celebration
DESCRIPTION:Golden favorite Woody's Wood Fired Pizza celebrates its 25th anniversary! Festivities start right after the Olde Golden Christmas Parade. We'll break out some holiday tunes and there are lots of surprises in store\, including a visit from the big man himself! 
LOCATION:Woody's 25th Anniversary Celebration\, 1305 Washington Ave.\, Golden\, CO\, 80401
END:VEVENT
END:VCALENDAR
