BEGIN:VCALENDAR
VERSION:2.0
PRODID:-//AudioTheme 2.3.1
BEGIN:VEVENT
UID:urn:uuid:b1ba39b7-9392-4b46-94ca-43d786375663
URL:https://halfpintgrowler.com/gigs/wine-wednesday-at-the-roxy-broadway/
DTSTART;TZID=GMT:20190905T010000
SUMMARY:Wine Wednesday at the Roxy Broadway
DESCRIPTION:Join us for Wine Wednesday at the Roxy Broadway! Enjoy 1920s ambiance\, classic cocktails\, and yummy shared plates at this newly restored gem. Did we mention 1/2 off all bottles of wine?! 😍
LOCATION:The Roxy Broadway\, 554 S. Broadway\, Denver\, CO\, USA\, 80209
END:VEVENT
END:VCALENDAR
