BEGIN:VCALENDAR
VERSION:2.0
PRODID:-//AudioTheme 2.3.1
BEGIN:VEVENT
UID:urn:uuid:9800f538-d584-46f0-9f52-cb985c80c6e9
URL:https://halfpintgrowler.com/gigs/vivac-winery/
DTSTART;TZID=GMT:20240525T230000
SUMMARY:Vivác Winery
DESCRIPTION:We're so excited to bring our swing gumbo to Vivác's Happy Hour Series! Award winning wines\, gorgeous patio\, holiday weekend... what more could you ask for?
LOCATION:Vivác Winery\, 2075 NM-68\, Dixon\, NM\, 87527
END:VEVENT
END:VCALENDAR
