BEGIN:VCALENDAR
VERSION:2.0
PRODID:-//AudioTheme 2.3.1
BEGIN:VEVENT
UID:urn:uuid:cd28e134-9f89-4b71-b4ee-e4a26c3d1fe0
URL:https://halfpintgrowler.com/gigs/valentines-day-dinner-at-the-mine-shaft-tavern/
DTSTART;TZID=GMT:20230215T020000
SUMMARY:Valentine's Dinner & Dancing at The Mine Shaft Tavern
DESCRIPTION:We'll be singing songs of love at the wonderful Mine Shaft Tavern on Valentine's Day. Please join us for dinner and dancing!
LOCATION:The Mine Shaft Tavern & Cantina\, 2846 NM-14\, Madrid\, NM\, 87010
END:VEVENT
END:VCALENDAR
