BEGIN:VCALENDAR
VERSION:2.0
PRODID:-//AudioTheme 2.3.1
BEGIN:VEVENT
UID:urn:uuid:e9bd428a-a0cd-404c-a51e-9235dd7ac284
URL:https://halfpintgrowler.com/gigs/tumbleroot-brewery/
DTSTART;TZID=GMT:20220622T013000
SUMMARY:Tumbleroot Brewery and Distillery
DESCRIPTION:So excited to bring our Bohemian Swing to Make Music Day Santa Fe 2022! Make Music Day is a free celebration of music that began in France in 1982 as the Fête de la Musique. It is now held annually on June 21 in more than 1\,000 cities in 120 countries. We can't wait to join the party!
LOCATION:Tumbleroot Brewery\, 2791 Agua Fria St.\, Santa Fe\, NM\, 87507
END:VEVENT
END:VCALENDAR
