BEGIN:VCALENDAR
VERSION:2.0
PRODID:-//AudioTheme 2.3.1
BEGIN:VEVENT
UID:urn:uuid:0c6c585c-5f95-4286-841d-1dd37ca82212
URL:https://halfpintgrowler.com/gigs/tumbleroot-brewery-patio-music-series/
DTSTART;TZID=GMT:20240713T000000
SUMMARY:Tumbleroot Brewery Patio Music Series
DESCRIPTION:We're bringing the HPGs Trio to the Tumbleroot Brewery & Distilleries Patio Music Series. Superb cocktails\, lipsmacking cervezas\, and food truck options. Please join us for our debut show at this great venue!
LOCATION:Tumbleroot Brewery\, 2791 Agua Fria St.\, Santa Fe\, NM\, 87507
END:VEVENT
END:VCALENDAR
