BEGIN:VCALENDAR
VERSION:2.0
PRODID:-//AudioTheme 2.3.1
BEGIN:VEVENT
UID:urn:uuid:5d02b0a9-0464-4fe5-a266-9548f36cd9eb
URL:https://halfpintgrowler.com/gigs/the-windy-saddle-cafe/
DTSTART;TZID=GMT:20160625T003000
SUMMARY:The Windy Saddle Cafe
LOCATION:The Windy Saddle Cafe\, 1110 Washington Ave Suite\, Golden\, CO\, 80401
END:VEVENT
END:VCALENDAR
