BEGIN:VCALENDAR
VERSION:2.0
PRODID:-//AudioTheme 2.3.1
BEGIN:VEVENT
UID:urn:uuid:38e4568e-8608-4685-830b-04313bc88bac
URL:https://halfpintgrowler.com/gigs/the-post/
DTSTART;TZID=GMT:20220424T203000
SUMMARY:The Post
DESCRIPTION:We're so excited to return to Denver for a reunion show with the original Growlers! My\, how we've missed your smiling faces – it's been a long two years! Join us at The Post's new location in the heart of LoHi.
LOCATION:The Post LoHi\, 1575 Boulder Street\, Denver\, CO\, 80211
END:VEVENT
END:VCALENDAR
