BEGIN:VCALENDAR
VERSION:2.0
PRODID:-//AudioTheme 2.3.1
BEGIN:VEVENT
UID:urn:uuid:f9daabf9-caeb-40ad-8694-c0ad75d850da
URL:https://halfpintgrowler.com/gigs/the-momo-lounge-at-the-monterey-motel/
DTSTART;TZID=GMT:20250921T010000
SUMMARY:The Momo Lounge at The Monterey Motel
DESCRIPTION:We're thrilled to bring our swing thing trio to the Monterey Motel's ultra cool Momo Lounge! Swing by all you good ABQ people!
LOCATION:The Momo Lounge at The Monterey Motel\, 2402 Central Ave. SW\, Albuquerque\, NM\, USA\, 87104
END:VEVENT
END:VCALENDAR
