BEGIN:VCALENDAR
VERSION:2.0
PRODID:-//AudioTheme 2.3.1
BEGIN:VEVENT
UID:urn:uuid:f9c7fe34-b74e-4088-a5c5-9cb76342f5b5
URL:https://halfpintgrowler.com/gigs/the-mine-shaft-tavern-cantina/
DTSTART;TZID=GMT:20221218T030000
SUMMARY:The Mine Shaft Tavern & Cantina
DESCRIPTION:We're so excited to bring our Swing Thang to the Mine Shaft! Please join us for dinner and music in sweet\, funky Madrid. Full band show and we'll pull out a few holiday tunes. So swing your jolly self down here!
LOCATION:The Mine Shaft Tavern & Cantina\, 2846 NM-14\, Madrid\, NM\, 87010
END:VEVENT
END:VCALENDAR
