BEGIN:VCALENDAR
VERSION:2.0
PRODID:-//AudioTheme 2.3.1
BEGIN:VEVENT
UID:urn:uuid:b66961ef-9e38-4f7d-b5fc-36b070911e84
URL:https://halfpintgrowler.com/gigs/the-lovinvains-duo-at-chile-line-brewery/
DTSTART;TZID=GMT:20240428T010000
SUMMARY:HPGs Trio at Chile Line Brewery
DESCRIPTION:We've got the 4-piece on tap for y'all at Chile Line Brewery! Try a green chile cerveza and some of Santa Fe's yummiest pizza! 
LOCATION:Chile Line Brewery\, 204 N. Guadalupe St.\, Santa Fe\, NM\, United States\, 87501
END:VEVENT
END:VCALENDAR
