BEGIN:VCALENDAR
VERSION:2.0
PRODID:-//AudioTheme 2.3.1
BEGIN:VEVENT
UID:urn:uuid:dd9baf66-e401-4dfa-a445-600dc87d3f69
URL:https://halfpintgrowler.com/gigs/the-golden-bicycle-cruise/
DTSTART;TZID=GMT:20180828T220000
SUMMARY:The Golden Bicycle Cruise
DESCRIPTION:Pump up your tires and get your costumes\, the Golden Bike Cruise is a celebration of beer\, bicycles and community!
LOCATION:The Golden Bicycle Cruise\, New Location TBA\, Golden\, CO\, 80401
END:VEVENT
END:VCALENDAR
