BEGIN:VCALENDAR
VERSION:2.0
PRODID:-//AudioTheme 2.3.1
BEGIN:VEVENT
UID:urn:uuid:98f5ba20-9aae-4931-a944-5994478e0fcd
URL:https://halfpintgrowler.com/gigs/the-golden-bicycle-cruise-3/
DTSTART;TZID=GMT:20200527T000000
SUMMARY:The Golden Bicycle Cruise
DESCRIPTION:CANCELED  Pump up your tires and get your costumes\, the Golden Bike Cruise is a celebration of beer\, bicycles\, and community!
LOCATION:The Golden Bicycle Cruise\, New Location TBA\, Golden\, CO\, 80401
END:VEVENT
END:VCALENDAR
