BEGIN:VCALENDAR
VERSION:2.0
PRODID:-//AudioTheme 2.3.1
BEGIN:VEVENT
UID:urn:uuid:06ee1e19-e549-464e-92a9-8de85448146e
URL:https://halfpintgrowler.com/gigs/the-golden-bicycle-cruise-2/
DTSTART;TZID=GMT:20190828T000000
SUMMARY:The Golden Bicycle Cruise
DESCRIPTION:Pump up your tires and get your costumes\, the Golden Bike Cruise is a celebration of beer\, bicycles\, and community!
LOCATION:The Golden Bicycle Cruise\, New Location TBA\, Golden\, CO\, 80401
END:VEVENT
END:VCALENDAR
