BEGIN:VCALENDAR
VERSION:2.0
PRODID:-//AudioTheme 2.3.1
BEGIN:VEVENT
UID:urn:uuid:434d77f0-2136-485e-bb7b-68956728a106
URL:https://halfpintgrowler.com/gigs/the-cowgirl/
DTSTART;TZID=GMT:20230520T190000
SUMMARY:The Cowgirl
DESCRIPTION:Join us for the best BBQ\, the friendliest people\, and (weather permitting) the best PATIO! 
LOCATION:Cowgirl BBQ\, 319 S Guadalupe St\, Santa Fe\, NM\, 87501
END:VEVENT
END:VCALENDAR
