BEGIN:VCALENDAR
VERSION:2.0
PRODID:-//AudioTheme 2.3.1
BEGIN:VEVENT
UID:urn:uuid:acb28782-86fa-4dc7-9851-cce30d1d18fd
URL:https://halfpintgrowler.com/gigs/the-cowgirl-santa-fe/
DTSTART;TZID=GMT:20260516T190000
SUMMARY:The Cowgirl Santa Fe
DESCRIPTION:Yeehaw! It's summer and we're back at one of our favorite patios. Please join us for the Cowgirl's kickin' food and drink menu and our swing gumbo!
LOCATION:Cowgirl BBQ\, 319 S Guadalupe St\, Santa Fe\, NM\, 87501
END:VEVENT
END:VCALENDAR
