BEGIN:VCALENDAR
VERSION:2.0
PRODID:-//AudioTheme 2.3.1
BEGIN:VEVENT
UID:urn:uuid:da7244e9-cd81-4b73-b5bf-2a98a0a2bb88
URL:https://halfpintgrowler.com/gigs/the-cowgirl-bbq/
DTSTART;TZID=GMT:20230114T200000
SUMMARY:The Cowgirl BBQ
DESCRIPTION:Start your new year off right with some kickin' Cowgirl BBQ and a side of our Swing Gumbo! 
LOCATION:Cowgirl BBQ\, 319 S Guadalupe St\, Santa Fe\, NM\, 87501
END:VEVENT
END:VCALENDAR
