BEGIN:VCALENDAR
VERSION:2.0
PRODID:-//AudioTheme 2.3.1
BEGIN:VEVENT
UID:urn:uuid:09bd09ac-003d-4cd4-a772-afc01b612789
URL:https://halfpintgrowler.com/gigs/the-cowgirl-bbq-7/
DTSTART;TZID=GMT:20240120T200000
SUMMARY:The Cowgirl BBQ
DESCRIPTION:We love this place! Come on down and find out why! We'll have the 4-piece on tap!
LOCATION:Cowgirl BBQ\, 319 S Guadalupe St\, Santa Fe\, NM\, 87501
END:VEVENT
END:VCALENDAR
