BEGIN:VCALENDAR
VERSION:2.0
PRODID:-//AudioTheme 2.3.1
BEGIN:VEVENT
UID:urn:uuid:7ab0f196-02a9-46a5-990e-a5b4c4a8a1e3
URL:https://halfpintgrowler.com/gigs/the-cowgirl-bbq-6/
DTSTART;TZID=GMT:20231021T190000
SUMMARY:The Cowgirl BBQ
DESCRIPTION:Santa Fe's absolute best and favorite BBQ! Swing by and see why! We'd love to see you!
LOCATION:Cowgirl BBQ\, 319 S Guadalupe St\, Santa Fe\, NM\, 87501
END:VEVENT
END:VCALENDAR
