BEGIN:VCALENDAR
VERSION:2.0
PRODID:-//AudioTheme 2.3.1
BEGIN:VEVENT
UID:urn:uuid:94f3e61a-78e7-4ac5-b3e6-8f31e05ce8af
URL:https://halfpintgrowler.com/gigs/the-cowgirl-bbq-5/
DTSTART;TZID=GMT:20230923T190000
SUMMARY:The Cowgirl BBQ
DESCRIPTION:Swing by for our swing gumbo and The Cowgirl's kickin' menu. So many yummy choices! See at Santa Fe's favorite watering hole!
LOCATION:Cowgirl BBQ\, 319 S Guadalupe St\, Santa Fe\, NM\, 87501
END:VEVENT
END:VCALENDAR
