BEGIN:VCALENDAR
VERSION:2.0
PRODID:-//AudioTheme 2.3.1
BEGIN:VEVENT
UID:urn:uuid:d452ed3f-62bc-49d8-b690-22fee607a2e8
URL:https://halfpintgrowler.com/gigs/the-cowgirl-bbq-4/
DTSTART;TZID=GMT:20230722T190000
SUMMARY:The Cowgirl BBQ
DESCRIPTION:We can't wait to bring our swing gumbo back to Santa Fe's favorite patio! Please join us!
LOCATION:Cowgirl BBQ\, 319 S Guadalupe St\, Santa Fe\, NM\, 87501
END:VEVENT
END:VCALENDAR
