BEGIN:VCALENDAR
VERSION:2.0
PRODID:-//AudioTheme 2.3.1
BEGIN:VEVENT
UID:urn:uuid:03f3e6dd-ab40-44ec-b7bb-8fb105a48b41
URL:https://halfpintgrowler.com/gigs/the-cowgirl-bbq-3/
DTSTART;TZID=GMT:20230422T190000
SUMMARY:The Cowgirl BBQ
DESCRIPTION:Grab yer dancing boots and come on out for The Cowgirl's kickin' BBQ and a side of our tasty swing gumbo! 
LOCATION:Cowgirl BBQ\, 319 S Guadalupe St\, Santa Fe\, NM\, 87501
END:VEVENT
END:VCALENDAR
