BEGIN:VCALENDAR
VERSION:2.0
PRODID:-//AudioTheme 2.3.1
BEGIN:VEVENT
UID:urn:uuid:a5ca6586-f1f0-46d7-aab2-8d39ff4ecec7
URL:https://halfpintgrowler.com/gigs/the-cowgirl-bbq-2/
DTSTART;TZID=GMT:20230318T190000
SUMMARY:The Cowgirl BBQ
DESCRIPTION:We're back in the saddle at The Cowgirl! Y'all swing by for good food\, good peeps\, and good times! 
LOCATION:Cowgirl BBQ\, 319 S Guadalupe St\, Santa Fe\, NM\, 87501
END:VEVENT
END:VCALENDAR
