BEGIN:VCALENDAR
VERSION:2.0
PRODID:-//AudioTheme 2.3.1
BEGIN:VEVENT
UID:urn:uuid:d00c24cb-4d61-428f-b5f7-5c47b61828d4
URL:https://halfpintgrowler.com/gigs/the-cowgirl-5/
DTSTART;TZID=GMT:20250628T190000
SUMMARY:The Cowgirl
DESCRIPTION:Summer was made for The Cowgirl Patio! Git on down here for great food and plenty of room to shake a leg.
LOCATION:Cowgirl BBQ\, 319 S Guadalupe St\, Santa Fe\, NM\, 87501
END:VEVENT
END:VCALENDAR
