BEGIN:VCALENDAR
VERSION:2.0
PRODID:-//AudioTheme 2.3.1
BEGIN:VEVENT
UID:urn:uuid:e7ff251b-4f7d-438c-bce5-9abc213f6786
URL:https://halfpintgrowler.com/gigs/the-cowgirl-4/
DTSTART;TZID=GMT:20240615T190000
SUMMARY:The Cowgirl
DESCRIPTION:Yay\, Summer! We're back at Santa Fe's favorite patio for BBQ\, Cervezas\, and our Swing Gumbo!
LOCATION:Cowgirl BBQ\, 319 S Guadalupe St\, Santa Fe\, NM\, 87501
END:VEVENT
END:VCALENDAR
