BEGIN:VCALENDAR
VERSION:2.0
PRODID:-//AudioTheme 2.3.1
BEGIN:VEVENT
UID:urn:uuid:8c79d920-6aca-446e-9856-f5375e12e0ed
URL:https://halfpintgrowler.com/gigs/the-cowgirl-3/
DTSTART;TZID=GMT:20240420T190000
SUMMARY:The Cowgirl
DESCRIPTION:We’re back in the saddle at SF’s fave hangout! We’ll have the 4-piece on tap for y'all with the fabulous Suzanne Birrell on bass & vox\, and Bob Lennon on percussion keepin' us swingin. Margs\, sunshine\, and the Cowgirl's kickin' menu. Yeah you right!
LOCATION:Cowgirl BBQ\, 319 S Guadalupe St\, Santa Fe\, NM\, 87501
END:VEVENT
END:VCALENDAR
