BEGIN:VCALENDAR
VERSION:2.0
PRODID:-//AudioTheme 2.3.1
BEGIN:VEVENT
UID:urn:uuid:69afc46b-4d58-4366-9e35-3d404df36c15
URL:https://halfpintgrowler.com/gigs/the-cowgirl-2/
DTSTART;TZID=GMT:20240508T220000
SUMMARY:The Lovin'Vains Duo at The Cowgirl
DESCRIPTION:Join The Lovin'Vains duo for originals and a dive into our unique covers of Americana/Roots classics.
LOCATION:Cowgirl BBQ\, 319 S Guadalupe St\, Santa Fe\, NM\, 87501
END:VEVENT
END:VCALENDAR
