BEGIN:VCALENDAR
VERSION:2.0
PRODID:-//AudioTheme 2.3.1
BEGIN:VEVENT
UID:urn:uuid:ab54d3e4-c87c-4aba-b4e8-8db94831f498
URL:https://halfpintgrowler.com/gigs/the-constellation-ice-cream-swing-dance/
DTSTART;TZID=GMT:20190727T013000
SUMMARY:The Constellation Ice Cream Swing Dance
DESCRIPTION:Sweet! It's a swing dance ice cream social! Free dance lessons with Swingin' Denver at 7 pm – HP&Gs start at 7:30. Please join us!
LOCATION:The Constellation Ice Cream\, 10175 E. 29th Drive\, Denver\, CO\, 80238
END:VEVENT
END:VCALENDAR
