BEGIN:VCALENDAR
VERSION:2.0
PRODID:-//AudioTheme 2.3.1
BEGIN:VEVENT
UID:urn:uuid:68eceb9a-b5d3-4075-8867-45d001114aa3
URL:https://halfpintgrowler.com/gigs/the-canteen-brewhouse-abq/
DTSTART;TZID=GMT:20251207T230000
SUMMARY:The Canteen Brewhouse ABQ
DESCRIPTION:Yay! We're so excited to bring our Swing Gumbo HPG Trio to The Canteen Brewhouse. We'll have some new tunes up our sleeve that wil get you in holiday spirit!
LOCATION:Canteen Brewhouse\, 2381 Aztec Rd NE\, Albuquerque\, NM\, 87107
END:VEVENT
END:VCALENDAR
