BEGIN:VCALENDAR
VERSION:2.0
PRODID:-//AudioTheme 2.3.1
BEGIN:VEVENT
UID:urn:uuid:3f437998-00d1-4236-9734-6d5085fde55f
URL:https://halfpintgrowler.com/gigs/the-arvada-tavern/
DTSTART;TZID=GMT:20171231T030000
SUMMARY:The Arvada Tavern
DESCRIPTION:Celebrate New Year's Eve Eve with Half Pint & The Growlers!
LOCATION:The Arvada Tavern\, 5707 Olde Wadsworth Blvd.\, Arvada\, CO\, 80002
END:VEVENT
END:VCALENDAR
