BEGIN:VCALENDAR
VERSION:2.0
PRODID:-//AudioTheme 2.3.1
BEGIN:VEVENT
UID:urn:uuid:87495206-7962-46f8-a294-d800793e6478
URL:https://halfpintgrowler.com/gigs/the-arvada-tavern-3/
DTSTART;TZID=GMT:20200208T030000
SUMMARY:The Arvada Tavern
DESCRIPTION:Classic hand-built cocktails greet those who know the secret entrance to this old town speakeasy. Come for dinner then join us for live music upstairs. No Cover! BTW – Peter recommends the Vieux Carré cocktail. 
LOCATION:The Arvada Tavern\, 5707 Olde Wadsworth Blvd.\, Arvada\, CO\, 80002
END:VEVENT
END:VCALENDAR
