BEGIN:VCALENDAR
VERSION:2.0
PRODID:-//AudioTheme 2.3.1
BEGIN:VEVENT
UID:urn:uuid:63091ce1-a52d-4f01-9d33-dbeafac1586f
URL:https://halfpintgrowler.com/gigs/the-arvada-tavern-2/
DTSTART;TZID=GMT:20190427T020000
SUMMARY:The Arvada Tavern
DESCRIPTION:One of our favorite venues! Enter this speakeasy through the phone booth and up the stairs for our swingy gypsy thing and finely crafted cocktails.
LOCATION:The Arvada Tavern\, 5707 Olde Wadsworth Blvd.\, Arvada\, CO\, 80002
END:VEVENT
END:VCALENDAR
