BEGIN:VCALENDAR
VERSION:2.0
PRODID:-//AudioTheme 2.3.1
BEGIN:VEVENT
UID:urn:uuid:5266abcc-ac08-4bac-9aa2-ae255062c64d
URL:https://halfpintgrowler.com/gigs/the-alley/
DTSTART;TZID=GMT:20180728T020000
SUMMARY:The Alley
LOCATION:The Alley\, 2420 W Main Street\, Littleton\, CO\, 80120
END:VEVENT
END:VCALENDAR
