BEGIN:VCALENDAR
VERSION:2.0
PRODID:-//AudioTheme 2.3.1
BEGIN:VEVENT
UID:urn:uuid:904d0cc7-2a0a-49e1-880d-d7b6f2468027
URL:https://halfpintgrowler.com/gigs/the-alley-2/
DTSTART;TZID=GMT:20180211T180000
SUMMARY:The Alley
DESCRIPTION:Bubbles and Brunch with Half Pint & The Growlers!
LOCATION:The Alley\, 2420 W Main Street\, Littleton\, CO\, 80120
END:VEVENT
END:VCALENDAR
