BEGIN:VCALENDAR
VERSION:2.0
PRODID:-//AudioTheme 2.3.1
BEGIN:VEVENT
UID:urn:uuid:4b1c20cb-ce93-4d3d-af16-d1070fa5f98a
URL:https://halfpintgrowler.com/gigs/swing-sunday-at-second-street-brewery-rufina/
DTSTART;TZID=GMT:20251019T190000
SUMMARY:Swing Sunday at Second Street Brewery Rufina
DESCRIPTION:We're quite excited to bring the small but mighty Trio to Second Street Brewery Rufina's Swing Sunday! Come have a bite\, a brew\, and a dance or two!
LOCATION:Second Street Brewery – Rufina Taproom\, 2920 Rufina St.\, Santa Fe\, NM\, USA\, 87507
END:VEVENT
END:VCALENDAR
