BEGIN:VCALENDAR
VERSION:2.0
PRODID:-//AudioTheme 2.3.1
BEGIN:VEVENT
UID:urn:uuid:407b0eb5-20a1-4a06-be42-eabe79ca62ad
URL:https://halfpintgrowler.com/gigs/swing-sunday-at-second-street-brewery-rufina-2/
DTSTART;TZID=GMT:20260517T190000
SUMMARY:Swing Sunday at Second Street Brewery Rufina
DESCRIPTION:It's spring and time to swing! Come on out for a heaping dose of Swing Gumbo for your sunday afternoon fun.
LOCATION:Second Street Brewery – Rufina Taproom\, 2920 Rufina St.\, Santa Fe\, NM\, USA\, 87507
END:VEVENT
END:VCALENDAR
