BEGIN:VCALENDAR
VERSION:2.0
PRODID:-//AudioTheme 2.3.1
BEGIN:VEVENT
UID:urn:uuid:53ee0a5c-fbe3-4e6b-aaeb-1249605d0fd9
URL:https://halfpintgrowler.com/gigs/swing-dance-at-st-johns-college/
DTSTART;TZID=GMT:20220911T023000
SUMMARY:Swing Dance at St Johns College
DESCRIPTION:St Johns College is hosting this Swing Dance held in conjunction with 505 Swing. Join 505 Swing for lessons earlier in the day and then join us and cut a rug! Public event! More info\, including tickets:  https://tinyurl.com/2erz64sk
LOCATION:St Johns College\, GRAND HALL 1160 Camino De Cruz Blanca\, Santa Fe\, NM\, 87505
END:VEVENT
END:VCALENDAR
