BEGIN:VCALENDAR
VERSION:2.0
PRODID:-//AudioTheme 2.3.1
BEGIN:VEVENT
UID:urn:uuid:53ee0a5c-fbe3-4e6b-aaeb-1249605d0fd9
URL:https://halfpintgrowler.com/gigs/swing-dance-at-st-johns-college-2/
DTSTART;TZID=GMT:20230903T023000
SUMMARY:Private Event
DESCRIPTION:We're so excited to return to St. John's College for an exclusive swing dance for students.
LOCATION:St Johns College\, GRAND HALL 1160 Camino De Cruz Blanca\, Santa Fe\, NM\, 87505
END:VEVENT
END:VCALENDAR
