BEGIN:VCALENDAR
VERSION:2.0
PRODID:-//AudioTheme 2.3.1
BEGIN:VEVENT
UID:urn:uuid:663e7819-1ae7-47b2-a034-e05c1c58a6dd
URL:https://halfpintgrowler.com/gigs/swallow-hill-music/
DTSTART;TZID=GMT:20181222T020000
SUMMARY:Swallow Hill Music
DESCRIPTION:Best of Open Stage Holiday Showcase – Duo 
LOCATION:Swallow Hill Music\, 71 E. Yale Ave\, Denver\, CO\, 80210
END:VEVENT
END:VCALENDAR
