BEGIN:VCALENDAR
VERSION:2.0
PRODID:-//AudioTheme 2.3.1
BEGIN:VEVENT
UID:urn:uuid:315b5082-397f-4b92-a0ac-b381d7cec5c5
URL:https://halfpintgrowler.com/gigs/swallow-hill-concerts-at-commons-park/
DTSTART;TZID=GMT:20180805T230000
SUMMARY:Swallow Hill Concerts at Commons Park
DESCRIPTION:Join Swallow Hill Music and Half Pint & The Growlers for a free outdoor concert at Commons Park
LOCATION:Swallow Hill Music\, Concerts at Commons Park 2101 15th Street\, Denver\, CO\, 80202
END:VEVENT
END:VCALENDAR
