BEGIN:VCALENDAR
VERSION:2.0
PRODID:-//AudioTheme 2.3.1
BEGIN:VEVENT
UID:urn:uuid:62c392a8-9d8f-4751-a26d-841539dcbb16
URL:https://halfpintgrowler.com/gigs/summer-concert-series-at-clement-park/
DTSTART;TZID=GMT:20170701T010000
SUMMARY:Summer Concert Series at Clement Park
DESCRIPTION:Join us for a free concert in a beautiful spot! Bring a picnic and your dancing shoes!
LOCATION:Grant Amphitheater Summer Concert Series\, Clement Park 7306 W Bowles Ave\, Littleton\, CO\, 80123
END:VEVENT
END:VCALENDAR
