BEGIN:VCALENDAR
VERSION:2.0
PRODID:-//AudioTheme 2.3.1
BEGIN:VEVENT
UID:urn:uuid:b35fd9ff-7953-4fb8-8d28-a0a78a08801c
URL:https://halfpintgrowler.com/gigs/stanley-marketplace-summer-concert-series/
DTSTART;TZID=GMT:20190607T010000
SUMMARY:Stanley Marketplace Summer Concert Series
DESCRIPTION:We couldn't be more excited to kick off a new Summer Concert Series at this super cool former airplane factory!
LOCATION:Stanley Marketplace\, 2501 Dallas Street\, Aurora\, CO\, 80010
END:VEVENT
END:VCALENDAR
