BEGIN:VCALENDAR
VERSION:2.0
PRODID:-//AudioTheme 2.3.1
BEGIN:VEVENT
UID:urn:uuid:ec6dae42-8c32-4ff4-8f89-232030b51f07
URL:https://halfpintgrowler.com/gigs/spring-horseshoe-market/
DTSTART;TZID=GMT:20170513T160000
SUMMARY:Spring Horseshoe Market
LOCATION:Spring Horseshoe Market\, Broncos Stadium at Mile High 1701 Bryant Street\, Denver\, CO\, 80204
END:VEVENT
END:VCALENDAR
