BEGIN:VCALENDAR
VERSION:2.0
PRODID:-//AudioTheme 2.3.1
BEGIN:VEVENT
UID:urn:uuid:b76925e2-0fba-4679-a7cb-14b60e66a93d
URL:https://halfpintgrowler.com/gigs/spirits-of-old-town/
DTSTART;TZID=GMT:20251123T010000
SUMMARY:Spirits of Old Town
DESCRIPTION:Hello Albuquerque! We can't wait to bring our swing trio to this crafty distillery in the heart of Old Town. 
LOCATION:Spirits of Old Town\, 522 Romero Street\, Albuquerque\, NM\, USA\, 87104
END:VEVENT
END:VCALENDAR
