BEGIN:VCALENDAR
VERSION:2.0
PRODID:-//AudioTheme 2.3.1
BEGIN:VEVENT
UID:urn:uuid:0a536b00-e60d-452b-9b91-b265679ae7d5
URL:https://halfpintgrowler.com/gigs/second-street-brewing-rufina-wednesday-night-folk-series/
DTSTART;TZID=GMT:20231005T000000
SUMMARY:Second Street Brewing Rufina Wednesday Night Folk Series
DESCRIPTION:Yay! We're back at Second Street Brewery Rufina for their Folk Series. We'll bring our swingy\, folky\, danceable gumbo mash to this popular series. Swing on by!
LOCATION:Second Street Brewery – Rufina Taproom\, 2920 Rufina St.\, Santa Fe\, NM\, USA\, 87507
END:VEVENT
END:VCALENDAR
