BEGIN:VCALENDAR
VERSION:2.0
PRODID:-//AudioTheme 2.3.1
BEGIN:VEVENT
UID:urn:uuid:615840af-62b7-4651-8b56-9bb810bea057
URL:https://halfpintgrowler.com/gigs/second-street-brewery-sunday-swing-series/
DTSTART;TZID=GMT:20230521T190000
SUMMARY:Second Street Brewery Sunday Swing Series
DESCRIPTION:We can't wait to return to this friendly venue and their popular Sunday Swing Series! Please join us!
LOCATION:Second Street Brewery – Rufina Taproom\, 2920 Rufina St.\, Santa Fe\, NM\, USA\, 87507
END:VEVENT
END:VCALENDAR
