BEGIN:VCALENDAR
VERSION:2.0
PRODID:-//AudioTheme 2.3.1
BEGIN:VEVENT
UID:urn:uuid:cfcf15f3-f212-431e-b9e8-d10e8a784cf5
URL:https://halfpintgrowler.com/gigs/second-street-brewery-rufina/
DTSTART;TZID=GMT:20240627T000000
SUMMARY:Second Street Brewery Rufina
DESCRIPTION:We're back at Second Street Rufina Wednesday Folk Series! Join us for our tasty swing thing and Second Streets tasty cervezas and fare.
LOCATION:Second Street Brewery – Rufina Taproom\, 2920 Rufina St.\, Santa Fe\, NM\, USA\, 87507
END:VEVENT
END:VCALENDAR
