BEGIN:VCALENDAR
VERSION:2.0
PRODID:-//AudioTheme 2.3.1
BEGIN:VEVENT
UID:urn:uuid:9cdfd84a-34aa-45b7-a687-3a69d28340e9
URL:https://halfpintgrowler.com/gigs/second-street-brewery-rufina-taproom/
DTSTART;TZID=GMT:20220731T190000
SUMMARY:Second Street Brewery Rufina Taproom
DESCRIPTION:Please join us for Second Street Brewery's Sunday Swing Series! We'll be on the patio at the Rufina Taproom location. Swing on by for award-winning beers\, wine\, cider\, tasty fare\, and our unique mash of vintage jazz and bohemian swing.
LOCATION:Second Street Brewery – Rufina Taproom\, 2920 Rufina St.\, Santa Fe\, NM\, USA\, 87507
END:VEVENT
END:VCALENDAR
