BEGIN:VCALENDAR
VERSION:2.0
PRODID:-//AudioTheme 2.3.1
BEGIN:VEVENT
UID:urn:uuid:bc877a97-2ba1-43e3-ba66-d36893bad387
URL:https://halfpintgrowler.com/gigs/second-street-brewery-rufina-taproom-2/
DTSTART;TZID=GMT:20221215T010000
SUMMARY:Second Street Brewery – Rufina Taproom
DESCRIPTION:Looking forward to our return to Second Street Brewery! What a fun venue. Please join us for some cheer!
LOCATION:Second Street Brewery – Rufina Taproom\, 2920 Rufina St.\, Santa Fe\, NM\, USA\, 87507
END:VEVENT
END:VCALENDAR
