BEGIN:VCALENDAR
VERSION:2.0
PRODID:-//AudioTheme 2.3.1
BEGIN:VEVENT
UID:urn:uuid:1a53aee9-6af1-4d31-8d86-d8654788adc4
URL:https://halfpintgrowler.com/gigs/second-street-brewery-rufina-swing-sunday/
DTSTART;TZID=GMT:20251228T200000
SUMMARY:Second Street Brewery Rufina Swing Sunday
DESCRIPTION:Come send off 2025 with us a little early! We've got our swing thing happening and Second Street is the place to be on Swing Sunday!
LOCATION:Second Street Brewery – Rufina Taproom\, 2920 Rufina St.\, Santa Fe\, NM\, USA\, 87507
END:VEVENT
END:VCALENDAR
